BEGIN:VCALENDAR
VERSION:2.0
PRODID:icalendar-ruby
CALSCALE:GREGORIAN
METHOD:PUBLISH
BEGIN:VEVENT
DTSTAMP:20260425T161530Z
UID:8-731930@peruzc.org
DTSTART:20260830T140000Z
DTEND:20260831T030000Z
CLASS:PUBLIC
CREATED:20260425T102157
DESCRIPTION:Don't miss the opportunity to connect with God and fellow belie
 vers every Sunday at 10:00 AM! You can join us in person at Zion Chapel Ch
 urch or from the comfort of your own home at Facebook or YouTube. We have 
 inspiring messages\, uplifting music and a friendly community waiting for 
 you. Come and worship with us this Sunday!
LAST-MODIFIED:20260425T102157
LOCATION:915 S Broadway Peru\, IN 46970
SUMMARY:Sunday Worship
URL;VALUE=URI:https://www.peruzc.org/events/sunday-worship/2026-08-30
ATTACH;FILENAME=Read-Pray-Grow-Graphic.jpg;FMTTYPE=image/jpeg:https://dq5pw
 pg1q8ru0.cloudfront.net/2026/01/11/01/03/34/1b0cfb97-88e1-4e5d-bcef-dbfdd8
 0f5532/Read-Pray-Grow-Graphic.jpg
END:VEVENT
END:VCALENDAR
