BEGIN:VCALENDAR
VERSION:2.0
PRODID:icalendar-ruby
CALSCALE:GREGORIAN
METHOD:PUBLISH
BEGIN:VEVENT
DTSTAMP:20260420T134103Z
UID:10-722246@peruzc.org
DTSTART:20260916T223000Z
DTEND:20260917T000000Z
CLASS:PUBLIC
CREATED:20260420T073541
DESCRIPTION:We hope to see you in-person or online for our weekly Wednesday
  Night Refresh Bible Study! Join us as we learn and grow in the Word!
LAST-MODIFIED:20260420T073541
LOCATION:
SUMMARY:Wednesday Night Refresh Bible Study
URL;VALUE=URI:https://www.peruzc.org/events/wednesday-night-refresh-bible-s
 tudy/2026-09-16
ATTACH;FILENAME=2026-Bible-Study-Cover-Graphic.png;FMTTYPE=image/png:https:
 //dq5pwpg1q8ru0.cloudfront.net/2026/01/07/23/17/38/140ecebc-8b20-4fa6-9b7e
 -167bc4d17d99/2026-Bible-Study-Cover-Graphic.png
END:VEVENT
END:VCALENDAR
