BEGIN:VCALENDAR
VERSION:2.0
PRODID:icalendar-ruby
CALSCALE:GREGORIAN
METHOD:PUBLISH
BEGIN:VEVENT
DTSTAMP:20260425T130602Z
UID:13-731740@peruzc.org
DTSTART:20260811T140000Z
DTEND:20260811T150000Z
CLASS:PUBLIC
CREATED:20260425T074043
DESCRIPTION:
LAST-MODIFIED:20260425T074043
LOCATION:Conference Room
SUMMARY:Women's Bible Study
URL;VALUE=URI:https://www.peruzc.org/events/womens-bible-study--13/2026-08-
 11
ATTACH;FILENAME=5WvA-2-2.jpg;FMTTYPE=image/jpeg:https://dq5pwpg1q8ru0.cloud
 front.net/2026/01/16/21/00/14/6e685762-02d9-4c79-bda8-17bfc914ea54/5WvA-2-
 2.jpg
END:VEVENT
END:VCALENDAR
